BEGIN:VCALENDAR
VERSION:2.0
X-WR-CALNAME:www.indybay.org
PRODID:-//indybay/ical// v1.0//EN
BEGIN:VEVENT
UID:Indybay-30323
SEQUENCE:30323
CREATED:20040205T082100Z
DESCRIPTION:Saturday, February 14, 6:30 - 7:30pm   Silent Candlelight Vigil in 
 Solidarity with the Women of Juarez  In solidarity with the families of the 
 women of Juarez and those that are joining  them there in an awareness 
 weekend, CodePink will hold a candlelight vigil in  Dolores Park similar to 
 the one that will be held the same evening in Ciudad Juarez.  What better 
 prelude to a Valentine's evening with your sweetie than sharing an hour  of 
 love, support and community?  Bring a candle, a friend, or a partner.  If 
 you can't come to the vigil, put a candle and a heart in your window on  
 Valentine's weekend that says, "In Solidarity with the Women of Juárez."  
 Stay tuned  for future actions and events borne from the events there.  
 CodePink will join V-Day, Amnesty International, and many others in Ciudad 
 Juarez on  Valentine's Weekend to bring awareness and support to the 
 families of the women of  Juarez who have been brutally and systematically 
 murdered.  To find out more about  the murders and the events planned for 
 Valentine's Weekend, go to:  
 http://www.codepinkalert.org/International_Actions_Women_of_Juarez.shtml.  
 For more  information on V-Day, go to:  http://www.vday.org. For more 
 information about Amnesty  International, go to: http://www.amnesty.org.  
 \n https://www.indybay.org/newsitems/2004/02/05/30323.php
SUMMARY:Silent Candlelight Vigil in Solidarity with the Women of Juarez
LOCATION:Dolores Park   18th and Dolores, SF
URL:https://www.indybay.org/newsitems/2004/02/05/30323.php
DTSTART:20040215T020000Z
DTEND:20040215T040000Z
END:VEVENT
END:VCALENDAR
