BEGIN:VCALENDAR
VERSION:2.0
X-WR-CALNAME:www.indybay.org
PRODID:-//indybay/ical// v1.0//EN
BEGIN:VEVENT
UID:Indybay-30143
SEQUENCE:30143
CREATED:20040204T052300Z
DESCRIPTION:Walk from San Francisco to San Quentin  Departs at 7am from the Palace of 
 the Legion of Honor.  Aprox. 25 miles. Arrives at Prison at 6pm.  Joins 
 March at St. Paul's Episcopal Church.  Contact Father Grosjean at 
 510-521-1841 or 831-566-0698.  \n 
 https://www.indybay.org/newsitems/2004/02/03/30143.php
SUMMARY:Walk from San Francisco to San Quentin
LOCATION:Palace of the Legion of Honor.  
URL:https://www.indybay.org/newsitems/2004/02/03/30143.php
DTSTART:20040209T150000Z
DTEND:20040210T030000Z
END:VEVENT
END:VCALENDAR
