BEGIN:VCALENDAR
VERSION:2.0
X-WR-CALNAME:www.indybay.org
PRODID:-//indybay/ical// v1.0//EN
BEGIN:VEVENT
UID:Indybay-29623
SEQUENCE:29623
CREATED:20040128T072900Z
DESCRIPTION:Friendly and fun game of soccer with other anarchists. \n 
 https://www.indybay.org/newsitems/2004/01/27/29623.php
SUMMARY:Anarchist Soccer
LOCATION:7th&Lincoln  in golden gate park near the baseball field.
URL:https://www.indybay.org/newsitems/2004/01/27/29623.php
DTSTART:20040131T200000Z
DTEND:20040131T220000Z
END:VEVENT
END:VCALENDAR
