BEGIN:VCALENDAR
VERSION:2.0
X-WR-CALNAME:www.indybay.org
PRODID:-//indybay/ical// v1.0//EN
BEGIN:VEVENT
UID:Indybay-29333
SEQUENCE:29333
CREATED:20040203T182500Z
DESCRIPTION:Sunday, February 8, 2004  Winter Harvest Day in the Peace Garden — Join 
 us in the community    garden for  a delicious lunch of winter greens. In 
 the morning we'll  plant starts   for  your spring garden, then we'll break 
 over a potluck  lunch for   a discussion  of future directions for the 
 Peace Garden in the  larger food justice  movement. Planting at 11; Potluck 
 and discussion at  12:30. Location:  Fellowship of Humanity Hall, 390 27th 
 St & 411 28th  St, between   Telegraph &  Broadway, Oakland. Time: 11am - 
 3pm. Info:    ingrid_evjenelias@hotmail.com  \n 
 https://www.indybay.org/newsitems/2004/02/03/29333.php
SUMMARY:Winter Harvest Day in the Peace Garden
LOCATION:Fellowship of Humanity Hall, 390 27th St & 411 28th  St, between Telegraph 
 &  Broadway, Oakland
URL:https://www.indybay.org/newsitems/2004/02/03/29333.php
DTSTART:20040209T070000Z
DTEND:20040209T110000Z
END:VEVENT
END:VCALENDAR
