BEGIN:VCALENDAR
VERSION:2.0
X-WR-CALNAME:www.indybay.org
PRODID:-//indybay/ical// v1.0//EN
BEGIN:VEVENT
UID:Indybay-293
SEQUENCE:293
CREATED:20040203T182400Z
DESCRIPTION:California Senator Dianne Feinstein wants to introduce a bill that would 
 ban all new visas for international students for 6 months! This will affect 
 well over 100,000 students.\n\nCall Dianne Feinstein's office to express 
 your opposition: (415) 393-0707\n\nor call her legislative staff (Camille 
 Camacho and Lavita Strickland) in Washington DC: (202) 224-3841\n\n 
 https://www.indybay.org/newsitems/2004/02/03/293.php
SUMMARY:Protest Feinstein's Attack On Civil Liberties
LOCATION:Dianne Feinstein's office\nOne Post Street\nSan Francisco, CA\n\n(At Post 
 and Market, near Montgomery St. BART station)\n\nIf you are in Berkeley 
 meet at Downtown Berkeley BART at 4PM.
URL:https://www.indybay.org/newsitems/2004/02/03/293.php
DTSTART:20011003T000000Z
DTEND:20011003T020000Z
END:VEVENT
END:VCALENDAR
