BEGIN:VCALENDAR
VERSION:2.0
X-WR-CALNAME:www.indybay.org
PRODID:-//indybay/ical// v1.0//EN
BEGIN:VEVENT
UID:Indybay-28843
SEQUENCE:28843
CREATED:20040203T182500Z
DESCRIPTION:Stop US Tax-funded Aid To Israel Now!   presents     David Rovics  in 
 Concert     Friday, February 6th, 8pm  Humanist Hall - OAKLAND  390 27th 
 Street   (b/w Broadway and Telegraph)     Dear Friends,   David Rovics will 
 be performing his "Songs of Social Significance" on February 6th.  The 
 concert will begin with an amazing Bay Area opening band "Third World 
 Collective" (mixture of Soul, Blues and Rock) and a short film produced by 
 SUSTAIN Bay Area - "Occupied Palestine 2003."     Please join us for this 
 special event, $10-$100 sliding scale, no one turned away for lack of 
 funds. Doors will open @ 7:30PM.  Proceeds will go to SUSTAIN- Stop Us 
 Tax-funded Aid to Israel Now! and to organizations in Nablus, Palestine. 
 This venue is wheelchair accessible.     Acclaim for David Rovics...  
 "Listen to David Rovics..."  Pete Seeger     "David Rovics is the musical 
 version of Democracy Now!"  Amy Goodman, host, Democracy Now!   "David 
 Rovics' music gives life and hope in the struggle for peace and justice. He 
  is an inspiration."  Reverend Roy Bourgeois, founder, SOA Watch   "If the 
 key to building a mass movement is to make it 'irresistible,' David is  
 opening the flood gates."  Medea Benjamin, Founding Director, Global 
 Exchange     For more information please e-mail sustainbayarea@yahoo.com   
 Check out http://www.sustaincampaign.org and http://www.davidrovics.com.    
  SUSTAIN the resistance!  \n 
 https://www.indybay.org/newsitems/2004/02/03/28843.php
SUMMARY:SUSTAIN Bay Area Presents: David Rovics
LOCATION:at the Humanist Hall  390 27th Street   (b/w Broadway and Telegraph) in 
 Oakland
URL:https://www.indybay.org/newsitems/2004/02/03/28843.php
DTSTART:20040207T040000Z
DTEND:20040207T080000Z
END:VEVENT
END:VCALENDAR
