BEGIN:VCALENDAR
VERSION:2.0
X-WR-CALNAME:www.indybay.org
PRODID:-//indybay/ical// v1.0//EN
BEGIN:VEVENT
UID:Indybay-28653
SEQUENCE:28653
CREATED:20040203T182400Z
DESCRIPTION:3rd annual reading of MLK's Declaration of Independence from the War in 
 Vietnam ("Why I oppose the war...")  Shared Reading followed by stories and 
 performances\n\noriginal music, dance, and spoken word inspired by 
 MLK\n\nSnacks and non-alcoholic beverages\n\n$5-15, noone turned away for 
 lack of funds\n https://www.indybay.org/newsitems/2004/02/03/28653.php
SUMMARY:Celebrate MLK's birthday
LOCATION:at "The Kitchen," 225 Potrero Ave near 15th St.\noff the Muni 
 9,22,33,53,19,27; near Potrero Center
URL:https://www.indybay.org/newsitems/2004/02/03/28653.php
DTSTART:20040116T030000Z
DTEND:20040116T050000Z
END:VEVENT
END:VCALENDAR
