BEGIN:VCALENDAR
VERSION:2.0
X-WR-CALNAME:www.indybay.org
PRODID:-//indybay/ical// v1.0//EN
BEGIN:VEVENT
UID:Indybay-28503
SEQUENCE:28503
CREATED:20040203T182500Z
DESCRIPTION:We stand vigil each Friday to protest the ongoing occupation of Palestine; 
 the murder of Palestinians, the bulldozing of homes and agricultural lands, 
 the stealing of the water supplies and the building of Jewish only roads 
 and the huge apartheid Wall on more stolen Palestinian lands. \n 
 https://www.indybay.org/newsitems/2004/02/03/28503.php
SUMMARY:Berkeley Women in Black
LOCATION:Join us at Bancroft and Telegraph
URL:https://www.indybay.org/newsitems/2004/02/03/28503.php
DTSTART:20040123T200000Z
DTEND:20040123T210000Z
END:VEVENT
END:VCALENDAR
