BEGIN:VCALENDAR
VERSION:2.0
X-WR-CALNAME:www.indybay.org
PRODID:-//indybay/ical// v1.0//EN
BEGIN:VEVENT
UID:Indybay-28173
SEQUENCE:28173
CREATED:20031223T075700Z
DESCRIPTION:Pulitzer Prize Nominee Michael Parenti, ex-Congresswoman Cynthia McKinney, 
 William Blum, Washington D.C.'s Center for Voting and Democracy and many 
 other influential individuals and organizations will be participating. In 
 addition, Ramsey Clark, Amy Goodman, Devinder Sharma, Michael Albert and 
 many others will provide exclusive documentary footage. Each day there will 
 be lunches with speakers, workshops and other activities; each evening will 
 offer a different lineup. Reservations for all three nights are $100; 
 single tickets for Opening Night are $50, other nights are $35 each. No one 
 with inability to pay will be turned away, but contact should be made ASAP. 
 Please review the Web site www.onedancesummit.org.\n 
 https://www.indybay.org/newsitems/2003/12/22/28173.php
SUMMARY:OneDance: The People's Summit
LOCATION:First Congregational Church  900 High Street  and  Central Branch Library  
 224 Church Street
URL:https://www.indybay.org/newsitems/2003/12/22/28173.php
DTSTART:20040114T200000Z
DTEND:20040115T080000Z
END:VEVENT
END:VCALENDAR
