BEGIN:VCALENDAR
VERSION:2.0
X-WR-CALNAME:www.indybay.org
PRODID:-//indybay/ical// v1.0//EN
BEGIN:VEVENT
UID:Indybay-27273
SEQUENCE:27273
CREATED:20040203T182500Z
DESCRIPTION:Come out and support SFBay IMC's killa radio project, Enemy Combatant 
 Radio, at the LongHaul in the East Bay! \nWho: Benefit for Enemy Combatant 
 Radio \nWhen: Sunday, Nov. 30th,7:30pm \nWhere: The Long Haul Infoshop, 
 3124 Shattuck Avenue, Berkeley (2 blocks from Ashby BART) \nWhat: films, 
 dinner, speakers and Rrrrradio!!!!\n\nCome out and support the radio of the 
 people's movement! Enemy Combatant Radio sprung up out of the anti-war 
 protests that shut the city of San Francisco down for three straight days. 
 Giving 24-7 support to the activists and people of San Francisco as they 
 converged on the streets, ECR became one of the most successful instances 
 of tactical media in the world. It continues on, as a radio resource 
 intended to train activists and people of conscience how to get their 
 messages out to their community. Featured on "Making Contact" and voted 
 Best Underground Radio Station in the Bay Area by the Guardian, ECR 
 broadcasts from the SF bay area IMC 24 hours a day. Please support 
 independent media!\n\nhttp://www.enemycombatantradio.org 
 \nhttp://www.indybay.org\n 
 https://www.indybay.org/newsitems/2004/02/03/27273.php
SUMMARY:Enemy Combatant Radio Café
LOCATION:The Long Haul Infoshop, 3124 Shattuck Avenue, Berkeley (2 blocks from Ashby 
 BART)
URL:https://www.indybay.org/newsitems/2004/02/03/27273.php
DTSTART:20031201T033000Z
DTEND:20031201T053000Z
END:VEVENT
END:VCALENDAR
