BEGIN:VCALENDAR
VERSION:2.0
X-WR-CALNAME:www.indybay.org
PRODID:-//indybay/ical// v1.0//EN
BEGIN:VEVENT
UID:Indybay-2723
SEQUENCE:2723
CREATED:20040203T182600Z
DESCRIPTION:\n https://www.indybay.org/newsitems/2004/02/03/2723.php
SUMMARY:Women's Action & Speakout Against War & War Propaganda outside CNN
LOCATION:Outside CNN (Censored News Network)\n50 California (near Market)\nSan 
 Francisco, CA  \n\n\n\n\n\n\n\n\n\n\n
URL:https://www.indybay.org/newsitems/2004/02/03/2723.php
DTSTART:20011213T200000Z
DTEND:20011213T210000Z
END:VEVENT
END:VCALENDAR
