BEGIN:VCALENDAR
VERSION:2.0
X-WR-CALNAME:www.indybay.org
PRODID:-//indybay/ical// v1.0//EN
BEGIN:VEVENT
UID:Indybay-27073
SEQUENCE:27073
CREATED:20040203T182400Z
DESCRIPTION:The Black Flag Project\nWhere music and Revolution meet!\nwith performances 
 from:\nFeenom Circle\nLabrie and the ALLIANC\nLia Rose\nthe Collaborative 
 Arts Insurgence\nand an Open Mic\nHosted by Emcee Lynx\nFriday November 
 21st\n2263 Mission St. San Francisco\n7:30pm-midnight\n$5 Donation, no one 
 turned away.\n\nThe Black Flag Project is a regular showcase for 
 Politically conscious musicians (and specifically Anarchists and other 
 revolutionaries).\n\nThe Event will be held once a month and consists of an 
 Open-mic, intersperesed with performances from featured artists and a live 
 jam band.  (If you play an instrument and want to jam, come on 
 down!)\n\nThe event is focussed primarily on Hip Hop and Spoken Word, but 
 all types of music is welcome.\n\nSingers, MC's, Poets, etc. are all 
 welcome on the open mic, the only rule is that you have to keep it 
 Conscious and Positive (ie: no sexist, racist, homophobic, or bling-bling 
 bullshit!).\n\nPlease repost this notice everywhere that it's appropriate 
 to do so, and pass it along to your friends.\n 
 https://www.indybay.org/newsitems/2004/02/03/27073.php
SUMMARY:The Black FLag Project
LOCATION:2263 Mission St.  Near  24th and Mission Bart station, former Mission 
 Records spot.
URL:https://www.indybay.org/newsitems/2004/02/03/27073.php
DTSTART:20031122T033000Z
DTEND:20031122T073000Z
END:VEVENT
END:VCALENDAR
