BEGIN:VCALENDAR
VERSION:2.0
X-WR-CALNAME:www.indybay.org
PRODID:-//indybay/ical// v1.0//EN
BEGIN:VEVENT
UID:Indybay-27013
SEQUENCE:27013
CREATED:20031110T064400Z
DESCRIPTION:\n https://www.indybay.org/newsitems/2003/11/09/27013.php
SUMMARY:Int
LOCATION:
URL:https://www.indybay.org/newsitems/2003/11/09/27013.php
DTSTART:20031109T200000Z
DTEND:20031109T210000Z
END:VEVENT
END:VCALENDAR
