BEGIN:VCALENDAR
VERSION:2.0
X-WR-CALNAME:www.indybay.org
PRODID:-//indybay/ical// v1.0//EN
BEGIN:VEVENT
UID:Indybay-26933
SEQUENCE:26933
CREATED:20040203T182500Z
DESCRIPTION:A monthly series in which local activists share their experiences and 
 influences that helped them become effective forces for change —also 
 discussing “So What Do We Do Now?”\nThis month featuring:\n    Dennis 
 Bernstein, KPFA Radio Investigative Reporter, Host of “Flashpoints”\n& 
 K. Ruby, Founder & Director of Wise Fool Puppet Intervention, \n            
     Anti-Globalization Activist\nDonation $5 (Students $3)\nWheelchair 
 Accessible\nSponsored by U.U. Social Justice Committee\n 
 https://www.indybay.org/newsitems/2004/02/03/26933.php
SUMMARY:So How’d You Become Activist
LOCATION:Berkeley Fellowship of Unitarian Universalists\n1924 CEDAR ST. (at Bonita) 
 • BERKELEY
URL:https://www.indybay.org/newsitems/2004/02/03/26933.php
DTSTART:20031114T030000Z
DTEND:20031114T060000Z
END:VEVENT
END:VCALENDAR
