BEGIN:VCALENDAR
VERSION:2.0
X-WR-CALNAME:www.indybay.org
PRODID:-//indybay/ical// v1.0//EN
BEGIN:VEVENT
UID:Indybay-26823
SEQUENCE:26823
CREATED:20040203T182500Z
DESCRIPTION:Mission: AMA stands against the military as a tool of capitalism and 
 colonialization. We oppose standing armies and weapons of mass destruction 
 and have joined together to end militarization through direct action and 
 education.\n\n# Principles of Unity: We stand against all forms of 
 oppression.\n# We do not stand against destruction of property we stand 
 against destruction of life.\n# We are non-violent but do not oppose armed 
 insurgency or self-defense.\n# We are a non-sectarian anarchist group that 
 welcomes anarchists from all traditions (green anarchists, primitivists, 
 anarcho-synd. etc.) Anti-Authoritarians welcome.\n# We aim to recognize and 
 deconstruct dominant hierarchies with our work and within our group. In 
 doing so we communicate directly and honestly with one another and 
 acknowledge and mediate concerns or issues that may arise.\n# We believe in 
 the empowerment of all people.\n\nCall 1-866-857-5291 for more 
 information\n\nJoin the Mailing list: 
 http://autonomi.net/mailman/listinfo/anti-mili-anarchy_autonomi.net\n\nWebsite:\nhttp://www.autonomi.net/ama 
 \n https://www.indybay.org/newsitems/2004/02/03/26823.php
SUMMARY:Anti-Militarist Anarchists
LOCATION:At the Long Haul Infoshop\n\nLong Haul Infoshop\n3124 Shattuck Avenue (near 
 Woolsey; 2 blocks from Ashby BART)\nBerkeley, CA 94705\n\n\nMeet there at 
 7:00pm, will probably be moving to different location for actual meeting, 
 if you are late contact us at:\n1-866-857-5291 
URL:https://www.indybay.org/newsitems/2004/02/03/26823.php
DTSTART:20031111T030000Z
DTEND:20031111T040000Z
END:VEVENT
END:VCALENDAR
