BEGIN:VCALENDAR
VERSION:2.0
X-WR-CALNAME:www.indybay.org
PRODID:-//indybay/ical// v1.0//EN
BEGIN:VEVENT
UID:Indybay-26773
SEQUENCE:26773
CREATED:20040203T182400Z
DESCRIPTION:\n \nGreenaction & The Indian Treaty Council welcome\n \nCORBIN HARNEY\nfor 
 a brown bag lunch reception \n(BYOBBL bring your own brown bag lunch)\nthis 
 THURSDAY \nNOVEMBER 6th 2003\n12 NOON\nOne Hallidie Plaza Suite 760\noff 
 Powell Bart station\nRSVP/info 
 415-248-5010x103\njessica@greenaction.org\n\nFree event\n\nfor more 
 info:\n\nhttp://greenaction.org/announcements/announce110603.shtml\n 
 https://www.indybay.org/newsitems/2004/02/03/26773.php
SUMMARY:Brown Bag Reception-Corbin Harney Western Shoshone Elder
LOCATION:off Powell Bart Station
URL:https://www.indybay.org/newsitems/2004/02/03/26773.php
DTSTART:20031106T200000Z
DTEND:20031106T210000Z
END:VEVENT
END:VCALENDAR
