BEGIN:VCALENDAR
VERSION:2.0
X-WR-CALNAME:www.indybay.org
PRODID:-//indybay/ical// v1.0//EN
BEGIN:VEVENT
UID:Indybay-2653
SEQUENCE:2653
CREATED:20040203T182400Z
DESCRIPTION:\n https://www.indybay.org/newsitems/2004/02/03/2653.php
SUMMARY:Protest Israeli Escalation & For Justice for Palestinians
LOCATION:Powell and Market St.
URL:https://www.indybay.org/newsitems/2004/02/03/2653.php
DTSTART:20011207T010000Z
DTEND:20011207T020000Z
END:VEVENT
END:VCALENDAR
