BEGIN:VCALENDAR
VERSION:2.0
X-WR-CALNAME:www.indybay.org
PRODID:-//indybay/ical// v1.0//EN
BEGIN:VEVENT
UID:Indybay-25833
SEQUENCE:25833
CREATED:20040203T182600Z
DESCRIPTION:Ecolibrium Environmental Shop\n             Presents\nA Special Evening 
 \nFilm Screening of “Palestine is still the Issue”\nBy award winning 
 Australian journalist and film maker\nJohn Pilger/ Examines both the 
 history and the current\nSituation in Palestine/Israel\n\nfree (donations 
 accepted)\ncome early! Seats limited!\n\n\nwebsite: www.ecolibrium.info 
 \n\n\n https://www.indybay.org/newsitems/2004/02/03/25833.php
SUMMARY:Film Screening of "Palestine is still the Issue"
LOCATION:1160 Capuchino Ave@ Broadway in Burlingame 94010
URL:https://www.indybay.org/newsitems/2004/02/03/25833.php
DTSTART:20031113T033000Z
DTEND:20031113T043000Z
END:VEVENT
END:VCALENDAR
