BEGIN:VCALENDAR
VERSION:2.0
X-WR-CALNAME:www.indybay.org
PRODID:-//indybay/ical// v1.0//EN
BEGIN:VEVENT
UID:Indybay-25483
SEQUENCE:25483
CREATED:20040203T182500Z
DESCRIPTION:Please join CODE PINK and others as we say "No to Arnold" & "No Groper for 
 Governor" on Saturday, Oct. 4th 4-6pm at the Alameda Fairgrounds\n 
 https://www.indybay.org/newsitems/2004/02/03/25483.php
SUMMARY:CODE PINK/Schwarzenegger action
LOCATION:Alameda County Fairgrounds\n4501 Pleasanton Avenue\nPleasanton, CA 94566
URL:https://www.indybay.org/newsitems/2004/02/03/25483.php
DTSTART:20031004T230000Z
DTEND:20031005T010000Z
END:VEVENT
END:VCALENDAR
