BEGIN:VCALENDAR
VERSION:2.0
X-WR-CALNAME:www.indybay.org
PRODID:-//indybay/ical// v1.0//EN
BEGIN:VEVENT
UID:Indybay-25363
SEQUENCE:25363
CREATED:20040203T182400Z
DESCRIPTION:On Saturday, October 25th, thousands will demand: "Bring the Troops Home 
 Now! End the Occupation!" at national demonstrations both in Washington, DC 
 and San Francisco.\n\nThe San Francisco march is cosponsored by 
 A.N.S.W.E.R., Not In Our Name, Bay Area United Against War, and the 
 Vanguard Public Foundation, and endorsed by Bay Area United for Peace and 
 Justice and many other organizations.\n\n"Money for Jobs, Education & 
 Health Care, NOT WAR!"\n\n"Defend civil rights and civil 
 liberties"\n\n"Repeal the Patriot Act" (Oct. 25 marks the anniversary of 
 the signing of the Patriot Act into law)\n\nPlease contact A.N.S.W.E.R. if 
 your organization would like to endorse this important event.\n\n 
 https://www.indybay.org/newsitems/2004/02/03/25363.php
SUMMARY:"Bring the Troops Home Now!  End Occupation" march and rally
LOCATION:Gather at Civic Center Plaza\nGrove & Larkin, Civic Center BART
URL:https://www.indybay.org/newsitems/2004/02/03/25363.php
DTSTART:20031025T180000Z
DTEND:20031025T220000Z
END:VEVENT
END:VCALENDAR
