BEGIN:VCALENDAR
VERSION:2.0
X-WR-CALNAME:www.indybay.org
PRODID:-//indybay/ical// v1.0//EN
BEGIN:VEVENT
UID:Indybay-25213
SEQUENCE:25213
CREATED:20040203T182400Z
DESCRIPTION:Protest in solidarity with imprisoned anarchists in Spain.\nDemand their 
 immediate release.\n\nsee http://www.indybay.org/news/2003/09/1647056.php 
 for full story.\n\n https://www.indybay.org/newsitems/2004/02/03/25213.php
SUMMARY:Solidarity Protest at Spanish Consulate
LOCATION:1405 Sutter St. at Franklin
URL:https://www.indybay.org/newsitems/2004/02/03/25213.php
DTSTART:20031001T200000Z
DTEND:20031001T210000Z
END:VEVENT
END:VCALENDAR
