BEGIN:VCALENDAR
VERSION:2.0
X-WR-CALNAME:www.indybay.org
PRODID:-//indybay/ical// v1.0//EN
BEGIN:VEVENT
UID:Indybay-2483
SEQUENCE:2483
CREATED:20040203T182500Z
DESCRIPTION:On December 12, 2000, five U.S. Supreme Court Justices betrayed us and 
 abrogated the Constitution, Usurping OUR Right to Vote by Ending the Ballot 
 Count, the ONLY Indication of the Will of the Citizens\n to elect the 
 President of the United States.\n\n(A)Wake for Democracy is a vigil that 
 continues the protest of this illegal action. Further, our protest will 
 continue until \nour elected representatives put a STOP to recent assaults 
 on our civil rights, PROTECT the Bill of Rights and ENACT Real Voter 
 Reform.\n \nPlease join us on December 12, 2001 to light a candle of hope 
 for true Voter Reform and to remind Americans that when the Supreme Court 5 
 usurped our right to vote, we took the first step toward the loss of 
 democracy. \n \nShine the Light of Justice for American Voters\n \n**This 
 vigil is not sponsored by any organization.  It is being organized by 
 people – just like you – who have never “rabble-roused” before. We 
 are appalled that a year has passed and none of our political 
 representatives nor organizations appear to be marking this anniversary of 
 mourning for the loss of the basic democratic right to elect our government 
 officials.  If you have connections to news media, know of groups that 
 could join us, or can help make signs and/or leaflet, please email us at 
 citizk@qwest.net.\nWE NEED ALL THE HELP WE CAN GET TO SPREAD THE WORD.\n\n 
 https://www.indybay.org/newsitems/2004/02/03/2483.php
SUMMARY: (A)Wake for Democracy
LOCATION:(A)Wake for Democracy will take place at the Oakland Federal Building\n1301 
 Clay Street between 13th and 14th\n2 blocks from the 12th Street 
 BART\nDate:  Wednesday December 12, 2001\nTime:5:00 pm\n
URL:https://www.indybay.org/newsitems/2004/02/03/2483.php
DTSTART:20011213T010000Z
DTEND:20011213T030000Z
END:VEVENT
END:VCALENDAR
