BEGIN:VCALENDAR
VERSION:2.0
X-WR-CALNAME:www.indybay.org
PRODID:-//indybay/ical// v1.0//EN
BEGIN:VEVENT
UID:Indybay-24713
SEQUENCE:24713
CREATED:20040203T182500Z
DESCRIPTION:What:  "Palestinian Crisis:   Another Catastrophe in the Making"  \n\nSlide 
 show presentation depicting the occupied city of Nablus in the Occuped 
 Territories, photography by Anne Gwynne--a fundraiser for the children of 
 Nablus.  \n\n$20- suggested donation\nno one turned away for lack of 
 funds.\n \nWhen:  Saturday, Sept. 27th, 2003, 6:30pm\n \nWhere:  Redwood 
 Gardens Community Room, Clark Kerr Campus, 2951 Derby St., 
 Berkeley\n\nEveryone is welcome!\n\nSponsored by the Berkeley Peace Walk + 
 Vigil\n\nhttp://www.geocities.com/vigil4peace \n\n-----\n\nPeace Walk + 
 Vigil is every wednesday at the Berkeley BART station (corner of 
 Center/Shattuck) meet between 6:30 and 7:00 PM.  Use your body to give 
 peace a presence.\n\n\n 
 https://www.indybay.org/newsitems/2004/02/03/24713.php
SUMMARY:Palestinian Crisis: Another Catastrophe In The Making
LOCATION:Redwood Gardens Community Room, Clark Kerr Campus\n2951 Derby St., 
 Berkeley\n\n\n
URL:https://www.indybay.org/newsitems/2004/02/03/24713.php
DTSTART:20030928T013000Z
DTEND:20030928T033000Z
END:VEVENT
END:VCALENDAR
