BEGIN:VCALENDAR
VERSION:2.0
X-WR-CALNAME:www.indybay.org
PRODID:-//indybay/ical// v1.0//EN
BEGIN:VEVENT
UID:Indybay-24413
SEQUENCE:24413
CREATED:20040203T182500Z
DESCRIPTION:screening of a panel discussion exposing many irregularites and outright 
 lies in the 'official' version of 9-11\nFREE to the public\ndoors @ 6:30\n 
 https://www.indybay.org/newsitems/2004/02/03/24413.php
SUMMARY:unanswered questions of 9-11
LOCATION:ashkenaz\n1317 san pablo @ gilman\nberkeley
URL:https://www.indybay.org/newsitems/2004/02/03/24413.php
DTSTART:20030926T020000Z
DTEND:20030926T040000Z
END:VEVENT
END:VCALENDAR
