BEGIN:VCALENDAR
VERSION:2.0
X-WR-CALNAME:www.indybay.org
PRODID:-//indybay/ical// v1.0//EN
BEGIN:VEVENT
UID:Indybay-23163
SEQUENCE:23163
CREATED:20040203T182500Z
DESCRIPTION:Join us for an open dialogue about the legal system and ways it can be 
 transformed to serve justice, function healthily and be a powerful force 
 for transformation. Three lawyers will help us launch this dialogue, which 
 promises to be lively and provocative.\n\n\nConversation Starters:\n. J. 
 Kim Wright, JD, Chairman and founder of The Renaissance Lawyer Society 
 (http://www.renaissancelawyer.com/)\n\n. Stewart Levine, JD, author, The 
 Book of Agreement\n\n. Neil Olson, JD, lawyers' coach; former partner in a 
 mid-sized civil litigation maritime law firm. \n\n\nThe Presidio Dialogues, 
 conversations for conscious business. First presenters then dialogue with 
 audience. To register online, go to 
 http://www.thepresidiodialogues.org/register.html.\n\n 
 https://www.indybay.org/newsitems/2004/02/03/23163.php
SUMMARY:Conscious Law: Possibility or Oxymoron?
LOCATION:The Golden Gate Club\n135 Fisher Loop\nThe 
 Presidio\n(http://www.goldengateclub.com/)
URL:https://www.indybay.org/newsitems/2004/02/03/23163.php
DTSTART:20040225T030000Z
DTEND:20040225T050000Z
END:VEVENT
END:VCALENDAR
