BEGIN:VCALENDAR
VERSION:2.0
X-WR-CALNAME:www.indybay.org
PRODID:-//indybay/ical// v1.0//EN
BEGIN:VEVENT
UID:Indybay-22713
SEQUENCE:22713
CREATED:20040203T182400Z
DESCRIPTION:An independent media event with youth films, djs and dancing.   Renegade 
 offers free media training to youth in the hopes of developing critical 
 thinking and awareness.   Through media literacy youth can learn to take 
 back their images from the media machine and make their voices be heard.  
 Come support them.   There will be free food!  \n\n$2-5 donation (no one 
 turned away)\n https://www.indybay.org/newsitems/2004/02/03/22713.php
SUMMARY:Fast Forward Film
LOCATION:Artists Television Access\n992 Valencia  @ 21st
URL:https://www.indybay.org/newsitems/2004/02/03/22713.php
DTSTART:20030802T220000Z
DTEND:20030803T000000Z
END:VEVENT
END:VCALENDAR
