BEGIN:VCALENDAR
VERSION:2.0
X-WR-CALNAME:www.indybay.org
PRODID:-//indybay/ical// v1.0//EN
BEGIN:VEVENT
UID:Indybay-22283
SEQUENCE:22283
CREATED:20040203T182400Z
DESCRIPTION:Party for the Ronald Reagan Home for the Criminally Insane\n\nHelp support 
 creative activism in the Bay Area and enjoy an evening of art by Eric 
 Drooker, Keith Knight and Winston Smith, Music by the Copper Tones and the 
 Marginal Prophets and comedy with Ian Shoales. \n\nThere will also be short 
 films by Jino Choi, Bill Carpenter, Mark Brecke and the White Ring. Art, 
 food and drink will be for sale and plenty of cheap laughs with "Celebrity 
 Activist Karaoke".\n\nA portion of the proceeds will go to the Wheels of 
 Justice Tour - a project of Voices in the Wilderness and the Middle East 
 Children's Alliance - a national bus tour to further education, organizing 
 and action around war and occupation in Iraq and Palestine. This Tour will 
 offer academic and eyewitness perspective to the conflicts in Iraq and 
 Palestine and cultivate and promote nonviolent resistance in the U.S. to 
 war and occupation. Email ceylon@vitw.org for more info on the tour. 
 \n\nFor more information see www.insanereagan.com or call 415 385-5956\n\n 
 https://www.indybay.org/newsitems/2004/02/03/22283.php
SUMMARY:Ronald Reagan Home for the Criminally Insane Benefit Party
LOCATION:1190 Folsom Street (@ 8th)
URL:https://www.indybay.org/newsitems/2004/02/03/22283.php
DTSTART:20030728T010000Z
DTEND:20030728T050000Z
END:VEVENT
END:VCALENDAR
