BEGIN:VCALENDAR
VERSION:2.0
X-WR-CALNAME:www.indybay.org
PRODID:-//indybay/ical// v1.0//EN
BEGIN:VEVENT
UID:Indybay-22063
SEQUENCE:22063
CREATED:20040203T182500Z
DESCRIPTION:Local Zine short movie night--- Two locally grown zine-related shorts (1994 
 Get Off My Wagon and 2000 Grrlyshow) are the feature, with a few surprise 
 local shorts thrown in. Free, but donations for the SF Zine Fest 
 accepted.\n https://www.indybay.org/newsitems/2004/02/03/22063.php
SUMMARY:Local zine-related movies--- SF Zine Fest benefit
LOCATION:Movie shown on video projector at the Long Haul, 3124 Shattuck Ave. at 
 Woolsey, two blocks east of the Ashby BART station. The Long Haul is a 
 not-for-profit community space which is bringing cool movies to the public 
 for free because it's just a nice thing to do. Check the web site for more 
 events this summer. www.thelonghaul.org
URL:https://www.indybay.org/newsitems/2004/02/03/22063.php
DTSTART:20030727T033000Z
DTEND:20030727T053000Z
END:VEVENT
END:VCALENDAR
