BEGIN:VCALENDAR
VERSION:2.0
X-WR-CALNAME:www.indybay.org
PRODID:-//indybay/ical// v1.0//EN
BEGIN:VEVENT
UID:Indybay-21913
SEQUENCE:21913
CREATED:20040203T182400Z
DESCRIPTION:Featuring: \nAnuradha Mittal, Co-director of Food First \nOmali Yeshitela, 
 African People’s Socialist Party Chairman \nQuetzaoceloacuia of the 
 Barrio Defense Committee \nMatthew Shenoda of the Arab Anti-Discrimination 
 Committee and Professor of Ethnic Studies at San Francisco State \nMatthew 
 Willis, African People's Solidarity Committee and Food Not Bombs \n\nEvery 
 year from Africa to India, the Middle East to the United States and 
 throughout Latin America and Asia, 9 million people die of starvation. 
 Uhuru Concessions brings to you a forum that will challenge the popular 
 myths that hunger is caused by a lack of food and by overpopulation and 
 will address the underlying causes of poverty and starvation. \n\nSee 
 more:\nhttp://www.indybay.org/news/2003/07/1624314.php\n\nDownload 
 flier:\nhttp://em-w.com/StarvationEvent.pdf \n\n 
 https://www.indybay.org/newsitems/2004/02/03/21913.php
SUMMARY:The Politics of War and Hunger
LOCATION:3543 18th St near Valencia in the Mission Neighborhood. Accessable by Bart, 
 take the 16th Street exit and walk two blocks West and two blocks South
URL:https://www.indybay.org/newsitems/2004/02/03/21913.php
DTSTART:20030718T020000Z
DTEND:20030718T040000Z
END:VEVENT
END:VCALENDAR
