BEGIN:VCALENDAR
VERSION:2.0
X-WR-CALNAME:www.indybay.org
PRODID:-//indybay/ical// v1.0//EN
BEGIN:VEVENT
UID:Indybay-21893
SEQUENCE:21893
CREATED:20040203T182500Z
DESCRIPTION:The Seymour Pioneer Museum presents\nFirst Thursday Lecture 
 Series\n\n\nThursday, July 10th, Michael Weller will kick off the new  FREE 
 First Thursday Lecture Series at the Seymour Pioneer Museum. Mr. Weller 
 will discuss the topic of the museum's latest exhibition, silver production 
 in California history.  The discussion will focus on the rise of the 
 Comstock Lode, the history of silver production from the discovery of 
 silver in California to the 1920s and 1930s, and the story of such 
 companies as Shreve and Company.  The evening will begin with a reception 
 at 5:30 with the lecture from 6 p.m. to 7 p.m.  Admission to the museum and 
 program will both be free that day and the museum will stay open until 7 
 p.m.\nThe First Thursday Lecture Series will continue with a discussion of 
 pioneering women given by Cathy Luchetti on August 7th and palm reading and 
 the San Francisco Call with Meredith Eliassen on September 
 4th.\n\n\n-30-\n\n\nSeymour Pioneer Museum at the Society of California 
 Pioneers\n300 Fourth Street at Folsom\nSan Francisco, CA 94107\n  \nLecture 
 Dates: July 10, August 7, and September 4, 2003\nLecture Time:  6 - 7 
 pm\nMuseum Hours: Weds – Saturday, 10am– 4pm\nGeneral Admission $3; 
 Students & Seniors $1\nAdmission to museum and program FREE on day of 
 event.\nSchool groups and tours encouraged, call for details\n   
 \ninfo@californiapioneers.org\nwww.californiapioneers.org\n\n 
 https://www.indybay.org/newsitems/2004/02/03/21893.php
SUMMARY:Michael Weller discusses Silver Production in California
LOCATION:Seymour Pioneer Museum at \nThe Society of California Pioneers\n300 Fourth 
 Street at Folsom\nSan Francisco, CA 94107
URL:https://www.indybay.org/newsitems/2004/02/03/21893.php
DTSTART:20030711T010000Z
DTEND:20030711T020000Z
END:VEVENT
END:VCALENDAR
