BEGIN:VCALENDAR
VERSION:2.0
X-WR-CALNAME:www.indybay.org
PRODID:-//indybay/ical// v1.0//EN
BEGIN:VEVENT
UID:Indybay-21453
SEQUENCE:21453
CREATED:20040203T182600Z
DESCRIPTION:The Liberty Cabbage Theatre Revival presents...\n\nOILIGARCHY : A tragic 
 comedy about love, loss, and addiction\n\nThe New England based performance 
 collective, Liberty Cabbage Theatre Revival, is touring CA and OR in a 
 biodiesel-powered-vehicle with their newest show Oiligarchy.  The show 
 includes puppetry, poetry, slides and music about petroleum - petroleum 
 history, its alternatives, and specifically highlighting the relationship 
 between U.S. oil consumption, patriarchy, and war.  The show concludes with 
 alternatives to the current social and political crisis, including 
 biodiesel, hydrogen power, bicycle lanes, improved public transportation, 
 direct democracy and global resistance movements. \n\nFor More 
 Information:\n\n\n\n\n 
 https://www.indybay.org/newsitems/2004/02/03/21453.php
SUMMARY:OILIGARCHY : A tragic comedy about love, loss, and addiction
LOCATION:Bay Area Dates:\n\nTues 6/24   Sacramento, CA, 8:15pm@ Colonial Theatre, 
 Stockton & 10th, (916)821-1077 \nWed, 6/25   Santa Cruz, CA, 8pm @Actors‚ 
 Theatre, 1001 Center St, (831) 425-1003 \nThurs 6/26   W.Oakland, CA, 8pm 
 @Oakland Noodle Factory, 1255 26th St #H (at Union)\n Fri, 7/4   San 
 Francisco, CA - Venue T.B.A.\nSat, 7/5   San Francisco, CA, 8pm, CELLSpace, 
 2050 Bryant St.\n\nsee the website for details or northwest show dates:\n\n
URL:https://www.indybay.org/newsitems/2004/02/03/21453.php
DTSTART:20030625T030000Z
DTEND:20030625T040000Z
END:VEVENT
END:VCALENDAR
