BEGIN:VCALENDAR
VERSION:2.0
X-WR-CALNAME:www.indybay.org
PRODID:-//indybay/ical// v1.0//EN
BEGIN:VEVENT
UID:Indybay-21133
SEQUENCE:21133
CREATED:20040203T182300Z
DESCRIPTION:Joel Kovel, psychiatrist, psychoanalyst, and Professor of Social Studies at 
 Bard College, Has been active in peace, social justice and ecological 
 movements since the 1960s.  He is the author of a number of books.  
 Kovel's most recent book is: The Enemy of Nature: the End of Capitalism or 
 the End of the World (Zed 2002).  This book explores the harsh conclusion 
 that the world capitalist system is leading to ecological catastrophe as 
 well as perpetual war and the disintegration of democratic society.  The 
 work also develops a radical alternative, eco-socialism, through a 
 synthesis of Marxism, eco-feminism, and the philosophy of 
 nature.\n\nSaturday, June 21, 3-5:30 pm\n\nhttp://www.marxistlibr.org/\n\n 
 https://www.indybay.org/newsitems/2004/02/03/21133.php
SUMMARY:Joel Kovel on "The Enemy of Nature"
LOCATION:Niebyl-Proctor Marxist Library\n6105 Telegraph Avenue @ 61st St.\n(Public 
 transportation: AC Transit Bus #40)\n
URL:https://www.indybay.org/newsitems/2004/02/03/21133.php
DTSTART:20030621T220000Z
DTEND:20030622T000000Z
END:VEVENT
END:VCALENDAR
