BEGIN:VCALENDAR
VERSION:2.0
X-WR-CALNAME:www.indybay.org
PRODID:-//indybay/ical// v1.0//EN
BEGIN:VEVENT
UID:Indybay-20483
SEQUENCE:20483
CREATED:20040203T182500Z
DESCRIPTION:We demand an end to US support of Israel, both financially and 
 diplomatically, until it is transformed into a true democracy with equal 
 rights for all, regardless of religion, race, ethnicity or sex, and that 
 includes all the Palestinian refugees who must  be allowed their right to 
 return to their ancestral homeland of Palestine-Israel, as it is their 
 inalienable right according to UN Resolutions, International Law and world 
 opinion.\n\nWe will have HUGE 4' x 10' banners that feature Rachel Corrie 
 in front of the bulldozer that killed her moments after the photo was 
 taken.  \n\nPlease join us to honor Rachel Corrie's sacrifice and to 
 continue on with her mission of achieving liberty, justice and equal rights 
 for the Palestinian people, which is the first step to world peace.  We 
 will be rallying on the 16th of every month which is the anniversary of 
 Rachel Corrie's martyrdom.\n\nMonday, June 16, Noon to one or two pm.  
 Starting at 450 Golden Gate Ave. (Congresswoman Pelosi's office.)btwn Van 
 Ness and Larkin. Migrating to City Hall.\n\nCongresswoman Pelosi has stated 
 unconditional support for Israel's reign of terror and ethnic cleansing of 
 the Palestinian people.\n\nSponsored by Americans for Justice in 
 Palestine-Israel and Citizens for Fair Legislation www.cflweb.org\n\n\n\n\n 
 https://www.indybay.org/newsitems/2004/02/03/20483.php
SUMMARY:First Rally with HUGE Rachel Corrie Banners Protesting US Support of Apartheid I
LOCATION:In front of Congresswoman Pelosi's office at 450 Golden Gate Ave. btwn Van 
 Ness and Larkin, one block up from City Hall in San Francisco.  We will 
 then migrate to City Hall.
URL:https://www.indybay.org/newsitems/2004/02/03/20483.php
DTSTART:20030616T190000Z
DTEND:20030616T210000Z
END:VEVENT
END:VCALENDAR
