BEGIN:VCALENDAR
VERSION:2.0
X-WR-CALNAME:www.indybay.org
PRODID:-//indybay/ical// v1.0//EN
BEGIN:VEVENT
UID:Indybay-20273
SEQUENCE:20273
CREATED:20040203T182500Z
DESCRIPTION:SUSTAIN the Resistance\n"A Tribute to Palestinian Liberation"\n \nJoin us 
 for an evening of music, spoken word, poetry,\ncultural performances and 
 dancing. As the struggle in\nPalestine continues so does the need to 
 continue to\nsupport local and Palestinian organizations who are\nfighting 
 for justice and equality in Palestine.   \n\n\nFellowship of Humanity 
 Hall\n\n411 28th Street @ Telegraph in Oakland\n\nMay 28, 2003 @ 7:30 to 
 Midnight - all ages\n\n \n$10 - $20, no one turned away for lack of 
 funds\n\n \nPerformances:\n\n-Shabaaz (Qawwali dance fusion)\n\n-Freedom 
 Fighter Music (hip hop)\n\n-Mtoto Dance Ensemble (West African 
 dance)\n\n-Iron Sheik featuring Tarek (spoken word/hip hop)\n\n-Sandfly 
 featuring Samir Moussa (rock/reggae/jam)\n\n-Marissa Ashkar (spoken 
 word\n\n-Abdi Jibril and Philip Machingura (percussion)\n\n-Rima Chaudry 
 (Calligraphy of Thought spoken word)\n\n-DJ Atif\n\n \n*This event will 
 benefit Union of Palestinian Women's\nCommittees in Gaza, Palestine which 
 works to\nstrengthen women's social, economic, political and\ncultural role 
 in Palestinian society and SUSTAIN (Stop\nU.S. Tax-Funded Aid to Israel 
 Now!), a local\ngrassroots Palestine solidarity organization.\n\n 
 \nwww.sustaincampaign.org\n\nwww.palwatc.org\n\n\n“You can’t separate 
 peace from freedom because no one\ncan be at peace unless he has his 
 freedom."  Malcolm X\n 
 https://www.indybay.org/newsitems/2004/02/03/20273.php
SUMMARY:Sustain the Resistance! - A Tribute to Palestinian Liberation
LOCATION:Fellowship for Humanity Hall\n411 28th St, @ Telegraph, Oakland
URL:https://www.indybay.org/newsitems/2004/02/03/20273.php
DTSTART:20030529T023000Z
DTEND:20030529T063000Z
END:VEVENT
END:VCALENDAR
