BEGIN:VCALENDAR
VERSION:2.0
X-WR-CALNAME:www.indybay.org
PRODID:-//indybay/ical// v1.0//EN
BEGIN:VEVENT
UID:Indybay-20233
SEQUENCE:20233
CREATED:20040203T182500Z
DESCRIPTION:MUMIA EVENT:\nHEARTS OF HOPE, SPARKS OF OVERCOMING*\n\nA "So How Did You 
 Become An Activist, and What Now?" event at the Berkeley Fellowship of 
 Unitarian Universalists (BFUU)\n\nFeatured Poets:\n\nWanda Sabir \nFrances 
 Hillyard   \nAdam David Miller\n\nWith:\n\nImprovisational Music by Gael 
 Alcock\n\nUpdate on the Case of Mumia Abu-Jamal\n\nAnd singers Alex and 
 Harriet Bagwell\n\n https://www.indybay.org/newsitems/2004/02/03/20233.php
SUMMARY:Mumia Event - HEARTS OF HOPE, SPARKS OF OVERCOMING
LOCATION:Berkeley Fellowship of Unitarian Universalists\n1924 Cedar (at Bonita), 
 Berkeley\n
URL:https://www.indybay.org/newsitems/2004/02/03/20233.php
DTSTART:20030531T020000Z
DTEND:20030531T050000Z
END:VEVENT
END:VCALENDAR
