BEGIN:VCALENDAR
VERSION:2.0
X-WR-CALNAME:www.indybay.org
PRODID:-//indybay/ical// v1.0//EN
BEGIN:VEVENT
UID:Indybay-1923
SEQUENCE:1923
CREATED:20011112T234800Z
DESCRIPTION:Tune in to Radio Anarchy Online every Monday and Thursday at 5:00pm pst @ 
 www.redcloudthunder.org/anarchy/\nDicussions of US imperialism, resistance 
 movements, and globalization. TUNE IN\n 
 https://www.indybay.org/newsitems/2001/11/12/1923.php
SUMMARY:Radio Anarchy Online
LOCATION:
URL:https://www.indybay.org/newsitems/2001/11/12/1923.php
DTSTART:20011113T010000Z
DTEND:20011113T030000Z
END:VEVENT
END:VCALENDAR
