BEGIN:VCALENDAR
VERSION:2.0
X-WR-CALNAME:www.indybay.org
PRODID:-//indybay/ical// v1.0//EN
BEGIN:VEVENT
UID:Indybay-19093
SEQUENCE:19093
CREATED:20040203T182500Z
DESCRIPTION:APRIL 27, Sunday, 7 pm ongoing Peace Vigil in El Sobrante (till this 
 administration is out)\nat corner of San Pablo Dam Road and Appian Way.  
 Park in the Olivers Hardware parking lot. \n\nWe have signs and candles, 
 but you can also bring your own.\n 
 https://www.indybay.org/newsitems/2004/02/03/19093.php
SUMMARY:Peace Vigil
LOCATION:San Pablo Dam Road and Appian Way, El Sobrante
URL:https://www.indybay.org/newsitems/2004/02/03/19093.php
DTSTART:20030428T020000Z
DTEND:20030428T030000Z
END:VEVENT
END:VCALENDAR
