BEGIN:VCALENDAR
VERSION:2.0
X-WR-CALNAME:www.indybay.org
PRODID:-//indybay/ical// v1.0//EN
BEGIN:VEVENT
UID:Indybay-19063
SEQUENCE:19063
CREATED:20040203T182400Z
DESCRIPTION:Brava Theater's fundraiser for its at-risk youth tech training program, "SF 
 Running Crew." \n\nDue to the change in the political climate (i.e. the 
 war), the artists performing at "Against The Grain" have tailored their 
 presentations to the current political situation and will now be presenting 
 the following:\n\n•A Middle Eastern anti-war musical number from The Love 
 Missile, performed for the first time by Golden Thread 
 Productions.\n\n•Hanifah Walidah and Rashad Pridgen's magical world of 
 poetry, spoken word, rap, hip hop dance, and criticism about the media and 
 war.\n\n•An authentic storyteller from the Navajo Tribe, Sunny Dooley, 
 one of the few women in her tribe who has access to stories from her 
 elders.\n\n•The musical and rhythmic palate of Venezuelan 
 multi-instrumentalist Jackeline Rago and issues of immigration since 9/11 
 with Venezuelan actress Greta Sanchez.\n\n•Sho Ho's Sara Moore, and 20 
 clowns from the Symphony of Clowns, will have you laughing in the aisles as 
 they respond to war from a clown's perspective\n\n•Amy Tobin and Heather 
 Gold's apocalyptic sketch exploring the radical notion of being middle of 
 the road. Drawing on a Jewish sensibility, comedy and tragedy, the piece 
 asks when we must choose sides and who we will have dinner with in our 
 increasingly polarized political circles.\n\n•The evening will feature a 
 musical MC, "The Fiddler Off The Roof," Kaila Flexer. \n\n•And others\n\n 
 https://www.indybay.org/newsitems/2004/02/03/19063.php
SUMMARY:Against The Grain: Artists for Peace - An Evening of Theater and Dissent
LOCATION:2789 24th St. (@ York)\n\nTix:\n$15 Students/Seniors \n$25 General \n$50 
 (with Gala only Friday, after the show)\nhttp://www.brava.org\n(415) 
 647-2822\n
URL:https://www.indybay.org/newsitems/2004/02/03/19063.php
DTSTART:20030426T030000Z
DTEND:20030426T050000Z
END:VEVENT
END:VCALENDAR
