BEGIN:VCALENDAR
VERSION:2.0
X-WR-CALNAME:www.indybay.org
PRODID:-//indybay/ical// v1.0//EN
BEGIN:VEVENT
UID:Indybay-1903
SEQUENCE:1903
CREATED:20011112T090900Z
DESCRIPTION:IRV, an electoral reform which will bring power to the people, is on the 
 ballot in March.  Join the campaign kickoff as we spread the word during 
 the pointless December runoff...\n\nThe schedule is as follows:\n\n10 am -- 
 gather for coffee & doughnuts\n\n10:15 am --  educational presentation & 
 Q&A about how instant runoff voting works, & why it will be good for 
 SF\n\n11:15 am -- CAMPAIGN KICKOFF, with special guest speakers Board 
 President Tom Ammiano & Supervisor Matt Gonzalez.\n\n12 noon to 3 pm -- 
 precinct walking\n\n4:00 pm -- FUNDRAISER, 4315 Lincoln Way (cross is 44th 
 Ave, Outer Sunset).\n https://www.indybay.org/newsitems/2001/11/12/1903.php
SUMMARY:CAMPAIGN  KICKOFF  FOR  INSTANT  RUNOFF  VOTING  IN  SF
LOCATION:Where: Arriba Juntos, 1850 Mission (cross St is between 14th and\n15th) -- 
 on-site parking available. It is located 1-1/2 blocks from\nthe 16th St 
 BART Station, & is accessible by bus lines 14, 33 & 22.\n\nFor more 
 information: call 824-2735, or e-mail CalebK@fairvote.org\n\n4:00 pm -- 
 FUNDRAISER, 4315 Lincoln Way (cross is 44th Ave, Outer Sunset).\n
URL:https://www.indybay.org/newsitems/2001/11/12/1903.php
DTSTART:20011117T180000Z
DTEND:20011118T020000Z
END:VEVENT
END:VCALENDAR
