BEGIN:VCALENDAR
VERSION:2.0
X-WR-CALNAME:www.indybay.org
PRODID:-//indybay/ical// v1.0//EN
BEGIN:VEVENT
UID:Indybay-18885734
SEQUENCE:19062943
CREATED:20260422T224700Z
DESCRIPTION:The trial of the century begins on April 27, 2026.\n\nMusk vs Altman isn't 
 about ethics. It's not even about the law. It's about control of the 
 future. It's the first major battle in the AI Wars, and whoever wins, we 
 lose.\n\nElon Musk is losing the AI arms race as xAI flails and stumbles. 
 If he wins this case, he severely damages the leader and gives himself a 
 chance to catch up.\n\nSam Altman and OpenAI are helping Trump build killer 
 robots and mass surveillance. If Altman wins, we're that much closer to the 
 technofascist creep state.\n\nIf there's one thing that's clear, it's that 
 EVERYONE SUCKS HERE. And that's what we're making our theme!\n\nIf you've 
 ever browsed Reddit, you've probably seen a post from "Am I The Asshole." 
 When everyone involved is at fault, Redditors say "ESH" or "Everyone Sucks 
 Here."\n\nWell, everyone involved in this case definitely sucks. So we're 
 encouraging folks to make a funny sign on the theme. You could include a 
 terrible quote from Elon or Sam, or something terrible they've done. Or 
 just the words "everyone sucks here."\n\nLet's have fun, make fun of two of 
 the world's greediest man-babies, and send a message that we won't sit by 
 and allow billionaires to control our future.\n 
 https://www.indybay.org/newsitems/2026/04/22/18885734.php
SUMMARY:Musk v. Altman: Everyone Sucks Here / The AI Wars: Whoever wins, we lose.
LOCATION:Federal District Court for Northern California• 1301 Clay Street, 
 Oakland, CA 94612 US
URL:https://www.indybay.org/newsitems/2026/04/22/18885734.php
DTSTART:20260427T190000Z
DTEND:20260427T210000Z
END:VEVENT
END:VCALENDAR
