BEGIN:VCALENDAR
VERSION:2.0
X-WR-CALNAME:www.indybay.org
PRODID:-//indybay/ical// v1.0//EN
BEGIN:VEVENT
UID:Indybay-18885657
SEQUENCE:19062838
CREATED:20260420T203100Z
DESCRIPTION:East Bay Community Dinner for Activists + Radical US History Quiz 
 Contest\n\nFREE FREE FREE - but bring some food to share - it's a 
 Potluck\n\nMay 11 (Monday) 6:30-9:00 Potluck - bring whatever you want 
 (except alcohol)\n\nLocation is 1924 Cedar Street (Berkeley Fellowship of 
 Unitarian Universalists)\n\nPrizes for Quiz winners, topics are Women’s 
 Rights, Black liberation, Labor Rights, and Berkeley Activism.\n\nFREE — 
 only 65 tickets available - RSVP at Eventbrite 
 https://www.eventbrite.com/e/east-bay-activists-potluck-dinner-radical-us-history-quiz-contest-tickets-1987797640252?aff=oddtdtcreator\n\nCo-sponsored 
 by Humanist Mutual Aid Network\n 
 https://www.indybay.org/newsitems/2026/04/20/18885657.php
SUMMARY:Community Dinner for East Bay Activists + Radical US History Quiz Contest
LOCATION:1924 Cedar Street in Berkeley
URL:https://www.indybay.org/newsitems/2026/04/20/18885657.php
DTSTART:20260512T013000Z
DTEND:20260512T033000Z
END:VEVENT
END:VCALENDAR
