BEGIN:VCALENDAR
VERSION:2.0
X-WR-CALNAME:www.indybay.org
PRODID:-//indybay/ical// v1.0//EN
BEGIN:VEVENT
UID:Indybay-18885632
SEQUENCE:19062799
CREATED:20260419T000600Z
DESCRIPTION:No Monarchs Monday: Weekly Protest at Tesla in San Francisco \n\nJoin us to 
 stand up for democracy, civil liberties, and the planet, and against the 
 fascist/authoritarian Trump Regime!\n\nABOLISH ICE! END THE WAR ON 
 IRAN!\n\nBring a sign if you have one.\n 
 https://www.indybay.org/newsitems/2026/04/18/18885632.php
SUMMARY:No Monarchs Monday: Weekly Protest at Tesla in San Francisco
LOCATION:At the Tesla Dealership, 999 Van Ness (corner of Van Ness and O'Farrell), 
 San Francisco
URL:https://www.indybay.org/newsitems/2026/04/18/18885632.php
DTSTART:20260420T193000Z
DTEND:20260420T203000Z
END:VEVENT
END:VCALENDAR
