BEGIN:VCALENDAR
VERSION:2.0
X-WR-CALNAME:www.indybay.org
PRODID:-//indybay/ical// v1.0//EN
BEGIN:VEVENT
UID:Indybay-18885630
SEQUENCE:19062794
CREATED:20260418T185300Z
DESCRIPTION:Santa Cruz Juneteenth celebrates Black Liberation and Freedom for our 35th 
 year on June 13th at Laurel Park behind the historic London Nelson 
 Community Center in downtown Santa Cruz, 12 - 6pm.\n\nOur theme this year 
 is: ✊🏾 Resilience ✊🏾\n\nJoin us for Music, Dance, Poetry from the 
 Diaspora, nourishing soul food, and craft booths.\n\n🙏🏽 Honor our 
 Ancestors at our Ancestors Altar 🕊\n💪🏽 Move your body with our 
 Moments of Movements instructors\n💃🏽Dance to the park in our 2nd Line 
 Sidewalk Parade starting at noon at the BLM Mural with a live brass and 
 drum band led by our Honorary Grand Marshal. 🎺🥁\n\nGracing our stage 
 this year:\n\n🎵 The Joint Chiefs\n🎶 Phreeborn & the 
 Phreequency\n🗣️ Gina René and the Juneteenth Choir\n🎷 Karlton 
 Heston & the Hesperians\n🎸 Joe Blan Duo\n🎤 Lee Earl\n🎤 Mesha 
 L\n💃🏽 Tannery World Dance Youth dancers\n🔊 DJ Sparkle provides the 
 beats\n🎙️ MC Maiya Lanae our host\n\nAlways FREE, there's plenty of 
 activities for children, including the sack race and the basketball clinic. 
 \n\nhttps://www.santacruzjuneteenth.com/\n 
 https://www.indybay.org/newsitems/2026/04/18/18885630.php
SUMMARY:35th Santa Cruz Juneteenth
LOCATION:Laurel Park, 301 Center St., Santa Cruz
URL:https://www.indybay.org/newsitems/2026/04/18/18885630.php
DTSTART:20260613T190000Z
DTEND:20260614T010000Z
END:VEVENT
END:VCALENDAR
