BEGIN:VCALENDAR
VERSION:2.0
X-WR-CALNAME:www.indybay.org
PRODID:-//indybay/ical// v1.0//EN
BEGIN:VEVENT
UID:Indybay-18884557
SEQUENCE:19061278
CREATED:20260301T001200Z
DESCRIPTION:March is the month when we honor the history of approximately half the 
 world’s\npopulation. On this day before International Women’s Day, our 
 speakers will discuss\nsome pioneers in women’s reproductive freedom in 
 the U.S., and women’s movements\nin Ireland, Iran, and 
 beyond.\n\nSpeakers include:\n\nEmer Martin – Award-winning Irish 
 novelist; Co-founder of Saoirse Hurriya\n(Palestinian/Irish Solidarity 
 Committee); member of Fremont Education\nAssociation\n\nNegeene Mosaed – 
 Founder, Berkeley Network for Palestine; member,\nDemocratic Socialists of 
 America; owner/operator, Berkeley Community\nPhysical Therapy, a community 
 clinic for the people of Berkeley\n\nMarsha Feinland – Member, Peace and 
 Freedom Party State Executive\nCommittee, and California Teachers’ 
 Association (retired); Former\ncommissioner, Berkeley Rent Stabilization 
 Board\n\n*Organizations listed for identification purposes only.\n\nAn open 
 discussion will follow the presentations. While online attendees may have 
 their input read by the moderator, attendance in person greatly facilitates 
 participation in the discussion\n\nThis event is sponsored by the Alameda 
 County Peace and Freedom Party,\nthe Alameda County Green Party and Bay 
 Area System Change Not Climate Change.\n\nFor more information email \n 
 https://www.indybay.org/newsitems/2026/02/28/18884557.php
SUMMARY:The Global Struggle for Women's Rights
LOCATION:The Starry Plough Pub\n3101 Shattuck Avenue, Berkeley, CA 94705\nAlso 
 available online: Register for your personal link at 
 \nhttps://bit.ly/SSS-WomensRights
URL:https://www.indybay.org/newsitems/2026/02/28/18884557.php
DTSTART:20260307T220000Z
DTEND:20260308T000000Z
END:VEVENT
END:VCALENDAR
