BEGIN:VCALENDAR
VERSION:2.0
X-WR-CALNAME:www.indybay.org
PRODID:-//indybay/ical// v1.0//EN
BEGIN:VEVENT
UID:Indybay-18884363
SEQUENCE:19061073
CREATED:20260223T193000Z
DESCRIPTION:What Kind of Anarchist Are You?\n Thurs March 5th :: 6:30pm-9pm \n @ 
 Tamarack (1501 Harrison St, Oakland)\n\n ••• There’s at least 20 
 different categories of anarchist; which one(s) do you identify with? Many 
 are quite opposite of each other. For example, are you a Platformist or an 
 Anarchist-Without-Adjectives? Anarcho-Primitive or Anarcho-Transhumanist? 
 Anarcho-Passivist or Illegalist or Galleanist advocate of Propaganda of the 
 Deed? Are you actually just a Minarchist, Decentralist, Localist, or 
 Apoist? We’ll explore, share, listen and debate to define our specific 
 ideologies.\n https://www.indybay.org/newsitems/2026/02/23/18884363.php
SUMMARY:What Kind of Anarchist Are You?
LOCATION:Tamarack 1501 Harrison Street, Oakland
URL:https://www.indybay.org/newsitems/2026/02/23/18884363.php
DTSTART:20260306T023000Z
DTEND:20260306T043000Z
END:VEVENT
END:VCALENDAR
