BEGIN:VCALENDAR
VERSION:2.0
X-WR-CALNAME:www.indybay.org
PRODID:-//indybay/ical// v1.0//EN
BEGIN:VEVENT
UID:Indybay-18882588
SEQUENCE:19058500
CREATED:20260106T073000Z
DESCRIPTION:🚨 DEFEND OUR MAYOR & THE CITY OF RICHMOND FROM PRO-ISRAEL REPRESSION 
 🚨\n\n🗓️ TUE JAN 6\n⏰ 5:00 PM\n📍 Richmond City Council: 440 
 Civic Center Plaza\n\nPro-genocide groups like the ADL and JCRC are 
 mobilizing to force Mayor Eduardo Martinez to resign after years of 
 targeting him for his pro-Palestine positions.\n\nMayor Martinez made 
 history as the first mayor in the country to pass a ceasefire resolution, 
 raised the Palestinian flag over City Hall, and helped make Sebastia, 
 Palestine a sister city to Richmond, California. Now, pro-genocide groups 
 are trying to intimidate and censor the mayor. We are calling on our 
 community to pack the room, give public comment, and demand that the 
 council reject these Zionist attacks.\n\nRichmond showed the Bay Area what 
 principled solidarity with Palestine looks like. Now is our time to defend 
 him!\n https://www.indybay.org/newsitems/2026/01/05/18882588.php
SUMMARY:Defend Our Mayor & the City of Richmond From Pro-Israel Repression
LOCATION:Richmond City Council: 440 Civic Center Plaza
URL:https://www.indybay.org/newsitems/2026/01/05/18882588.php
DTSTART:20260107T010000Z
DTEND:20260107T040000Z
END:VEVENT
END:VCALENDAR
