BEGIN:VCALENDAR
VERSION:2.0
X-WR-CALNAME:www.indybay.org
PRODID:-//indybay/ical// v1.0//EN
BEGIN:VEVENT
UID:Indybay-18882586
SEQUENCE:19058481
CREATED:20260106T060000Z
DESCRIPTION:Every Thursday, we gather in front of El Cerrito Plaza to stand together in 
 solidarity with Palestine. This is a Human Billboard action- visible, and 
 rooted in our shared vision for a Free Palestine.  We hold signs, we hold 
 space, pass out information and we remind our neighbors that there is NO 
 CEASEFIRE in GAZA. \n\nJoin your neighbors in this act of solidarity and 
 let us continue to build a steady community of people who believe that 
 Palestinian lives shall never be erased and  that silence is not an 
 option.\nCome as you are. Wear a keffiyeh, bring a sign or Pali  flag if 
 you have one, or just bring yourself.  Help us hold our banners.  Whether 
 you stay for ten minutes or an hour, your presence helps build a living, 
 breathing community of solidarity.\n\n📍 El Cerrito Plaza   San Pablo Ave 
 and Carlson, in front of Daiso\n 🕰 Thursdays, 4:30 - 5:30pm\n ✊ All 
 are welcome\n\nURL;  https://www.instagram.com/albelc4palestine\n 
 https://www.indybay.org/newsitems/2026/01/05/18882586.php
SUMMARY:Thursday Human Billboard for Palestine
LOCATION:Human Billboard is located on San Pablo Ave at the intersection of Carlson 
 Ave.  directly in front of the El Cerrito Plaza. Groups members will occupy 
 all 4 intersectional corners.
URL:https://www.indybay.org/newsitems/2026/01/05/18882586.php
DTSTART:20260109T003000Z
DTEND:20260109T013000Z
END:VEVENT
END:VCALENDAR
