BEGIN:VCALENDAR
VERSION:2.0
X-WR-CALNAME:www.indybay.org
PRODID:-//indybay/ical// v1.0//EN
BEGIN:VEVENT
UID:Indybay-18882321
SEQUENCE:19058109
CREATED:20251219T220900Z
DESCRIPTION:Across the country, Home Depot is allowing ICE agents to illegally abduct 
 day laborers around its stores.\n\nIn Oakland, Home Depot refuses to 
 provide laborers with a safe place to seek work, banning them from parking 
 lots and denying them basic dignity and respect.\n\nOn Saturday, December 
 20, we will protest and demand that Home Depot immediately:\n\n* Respect 
 Day Laborers and provide them with a safe place to seek work.\n\n* Publicly 
 condemn ICE raids.\n\n* Stop cooperating with ICE – close stores and 
 parking lots to ICE agents.\n\n* Negotiate with NDLON to protect workers 
 and customers from attacks.\n\n* Help detained victims and support their 
 families.\n\n* Release security video and other footage of enforcement 
 actions at Home Depot stores\n\nSaturday, December 20th  is the second 
 biggest shopping day of the year. Join us at Home Depot to say we've had 
 enough! We Ain't Buying It!\n\nLOCATION DETAILS: We will gather 1 block 
 from the Fruitvale BART Station, behind the Guadalajara Restaurant at 1001 
 Fruitvale Ave. There is parking at the Fruitvale BART Station Garage. 
 Additional parking is at the BART parking lot at E. 12th St. and Derby Ave. 
 (Enter on Derby, right behind Guadalajara Restaurant).\n\nRSVP here: 
 https://www.mobilize.us/indivisible-east-bay/event/876101\n\nAs part of 
 this action, we are raising funds to pay day laborers who will miss work on 
 Dec 20. Please support day laborers who will lose work during the protest. 
 Make a contribution here: https://gofund.me/59969be54\n\nCo-Sponsors: Bay 
 Resistance, ACCE, AFSCME 3299, CURYJ, the Immigrant Defense Committee, the 
 Oakland Education Association, SEIU 1021, Street Level Health, and 
 Indivisible East Bay\n 
 https://www.indybay.org/newsitems/2025/12/19/18882321.php
SUMMARY:ICE out of Home Depot - Oakland Protest
LOCATION:1001 Fruitvale Ave, Oakland
URL:https://www.indybay.org/newsitems/2025/12/19/18882321.php
DTSTART:20251220T180000Z
DTEND:20251220T203000Z
END:VEVENT
END:VCALENDAR
