BEGIN:VCALENDAR
VERSION:2.0
X-WR-CALNAME:www.indybay.org
PRODID:-//indybay/ical// v1.0//EN
BEGIN:VEVENT
UID:Indybay-18882134
SEQUENCE:19057839
CREATED:20251211T033500Z
DESCRIPTION:Join our first webinar and global organizing meeting!\n\nAfter our beloved 
 colleague Dr. Muath Talat Abo Rokba was murdered by Israel, over 200 
 veterinarians, animal advocates, and activists responded to our call for 
 collective action.\n\nIG: https://www.instagram.com/animalwag/\n 
 https://www.indybay.org/newsitems/2025/12/10/18882134.php
SUMMARY:Animal Healthcare Workers Against Genocide Webinar
LOCATION:Zoom\nhttps://zoom.us/meeting/register/W9oBIrwwSeinSUJxpCWpLw#/registration
URL:https://www.indybay.org/newsitems/2025/12/10/18882134.php
DTSTART:20251214T160000Z
DTEND:20251214T160000Z
END:VEVENT
END:VCALENDAR
