BEGIN:VCALENDAR
VERSION:2.0
X-WR-CALNAME:www.indybay.org
PRODID:-//indybay/ical// v1.0//EN
BEGIN:VEVENT
UID:Indybay-18882133
SEQUENCE:19057843
CREATED:20251211T022200Z
DESCRIPTION:Headlining our survey of regional subculture, here's the SF debut of Jeanne 
 Finley's A Radical Thread, with the esteemed educator/video-artist in 
 person. She introduces her inspiring hour-plus group-portrait of a 
 50-year-strong Sierra Foothills sustainable community that saved the Yuba 
 River, and managed to narrate their struggle--and others--in an expansive 
 hand-woven tapestry. \n\nThe evening's opening half-hour is made up of a 
 rather curious compilation of short docs that focus more particularly on 
 San Francisco itself, including Ellie Vanderlip's (also in person) Muni 
 study the one, Craig Baldwin's (here too) mid-Market memoir Stolen Movie, 
 James Hong's refreshingly frank Folsom Street Fair, and Sam Green/Andy 
 Black's much-loved Cinematic Study of Fog. PLUS precious glimpses of the 
 Emeryville Mudflat sculptures, William Wiley and Michael McClure installing 
 city-wide billboard art, and a super-rare early-60s 16mm clip of Mission 
 Street's Original Gangstas. $12\n\n 
 https://www.indybay.org/newsitems/2025/12/10/18882133.php
SUMMARY:A Radical Thread
LOCATION:ATA Gallery, 992 Valencia Street, San Francisco
URL:https://www.indybay.org/newsitems/2025/12/10/18882133.php
DTSTART:20251221T040000Z
DTEND:20251221T060000Z
END:VEVENT
END:VCALENDAR
